Package: Site2Target Version: 1.0.0 Command: /Library/Frameworks/R.framework/Resources/bin/R CMD INSTALL Site2Target StartedAt: 2025-10-09 16:03:24 -0400 (Thu, 09 Oct 2025) EndedAt: 2025-10-09 16:03:27 -0400 (Thu, 09 Oct 2025) EllapsedTime: 2.7 seconds RetCode: 0 Status: OK