Package: Site2Target Version: 1.0.0 Command: /Library/Frameworks/R.framework/Resources/bin/R CMD check --install=check:Site2Target.install-out.txt --library=/Library/Frameworks/R.framework/Resources/library --no-vignettes --timings Site2Target_1.0.0.tar.gz StartedAt: 2025-10-11 14:27:06 -0400 (Sat, 11 Oct 2025) EndedAt: 2025-10-11 14:28:39 -0400 (Sat, 11 Oct 2025) EllapsedTime: 93.6 seconds RetCode: 0 Status: OK CheckDir: Site2Target.Rcheck Warnings: 0