Package: Site2Target Version: 1.0.0 Command: /Library/Frameworks/R.framework/Resources/bin/R CMD build --keep-empty-dirs --no-resave-data Site2Target StartedAt: 2025-10-10 10:07:22 -0400 (Fri, 10 Oct 2025) EndedAt: 2025-10-10 10:08:00 -0400 (Fri, 10 Oct 2025) EllapsedTime: 37.5 seconds RetCode: 0 Status: OK PackageFile: Site2Target_1.0.0.tar.gz PackageFileSize: 441.7 KiB