Package: SingleMoleculeFootprinting Version: 2.2.0 Command: /home/biocbuild/bbs-3.21-bioc/R/bin/R CMD INSTALL SingleMoleculeFootprinting StartedAt: 2025-10-15 15:56:06 -0400 (Wed, 15 Oct 2025) EndedAt: 2025-10-15 15:56:55 -0400 (Wed, 15 Oct 2025) EllapsedTime: 48.8 seconds RetCode: 0 Status: OK