Package: SingleMoleculeFootprinting Version: 2.2.0 Command: /Library/Frameworks/R.framework/Resources/bin/R CMD INSTALL SingleMoleculeFootprinting StartedAt: 2025-10-13 16:43:58 -0400 (Mon, 13 Oct 2025) EndedAt: 2025-10-13 16:45:41 -0400 (Mon, 13 Oct 2025) EllapsedTime: 103.4 seconds RetCode: 0 Status: OK