Package: SingleMoleculeFootprinting Version: 2.2.0 Command: /home/biocbuild/R/R/bin/R CMD INSTALL SingleMoleculeFootprinting StartedAt: 2025-10-13 21:16:16 -0000 (Mon, 13 Oct 2025) EndedAt: 2025-10-13 21:17:28 -0000 (Mon, 13 Oct 2025) EllapsedTime: 72.0 seconds RetCode: 0 Status: OK