Package: SingleMoleculeFootprinting Version: 2.2.0 Command: /home/biocbuild/R/R/bin/R CMD build --keep-empty-dirs --no-resave-data SingleMoleculeFootprinting StartedAt: 2025-10-14 04:47:28 -0000 (Tue, 14 Oct 2025) EndedAt: 2025-10-14 04:49:10 -0000 (Tue, 14 Oct 2025) EllapsedTime: 102.1 seconds RetCode: 1 Status: ERROR PackageFile: None PackageFileSize: NA