Package: SingleMoleculeFootprinting Version: 2.2.0 Command: rm -rf SingleMoleculeFootprinting.buildbin-libdir && mkdir SingleMoleculeFootprinting.buildbin-libdir && /Users/biocbuild/BBS/utils/build-universal.sh SingleMoleculeFootprinting_2.2.0.tar.gz /Library/Frameworks/R.framework/Resources/bin/R SingleMoleculeFootprinting.buildbin-libdir StartedAt: 2025-04-21 22:52:54 -0400 (Mon, 21 Apr 2025) EndedAt: 2025-04-21 22:53:17 -0400 (Mon, 21 Apr 2025) EllapsedTime: 22.5 seconds RetCode: 0 Status: OK PackageFile: SingleMoleculeFootprinting_2.2.0.tgz PackageFileSize: 4.558 MiB