Package: SingleMoleculeFootprinting Version: 2.2.0 Command: /Library/Frameworks/R.framework/Resources/bin/R CMD check --install=check:SingleMoleculeFootprinting.install-out.txt --library=/Library/Frameworks/R.framework/Resources/library --no-vignettes --timings SingleMoleculeFootprinting_2.2.0.tar.gz StartedAt: 2025-10-15 12:52:38 -0400 (Wed, 15 Oct 2025) EndedAt: 2025-10-15 13:00:29 -0400 (Wed, 15 Oct 2025) EllapsedTime: 471.0 seconds RetCode: 0 Status: OK CheckDir: SingleMoleculeFootprinting.Rcheck Warnings: 0