Package: SingleMoleculeFootprinting Version: 2.2.0 Command: /Library/Frameworks/R.framework/Resources/bin/R CMD build --keep-empty-dirs --no-resave-data SingleMoleculeFootprinting StartedAt: 2025-10-14 09:40:55 -0400 (Tue, 14 Oct 2025) EndedAt: 2025-10-14 09:44:41 -0400 (Tue, 14 Oct 2025) EllapsedTime: 226.4 seconds RetCode: 0 Status: OK PackageFile: SingleMoleculeFootprinting_2.2.0.tar.gz PackageFileSize: 4.148 MiB