Package: SingleCellSignalR Version: 1.20.0 Command: /Library/Frameworks/R.framework/Resources/bin/R CMD check --install=check:SingleCellSignalR.install-out.txt --library=/Library/Frameworks/R.framework/Resources/library --no-vignettes --timings SingleCellSignalR_1.20.0.tar.gz StartedAt: 2025-09-30 10:20:37 -0400 (Tue, 30 Sep 2025) EndedAt: 2025-09-30 10:28:16 -0400 (Tue, 30 Sep 2025) EllapsedTime: 459.1 seconds RetCode: 0 Status: WARNINGS CheckDir: SingleCellSignalR.Rcheck Warnings: 2