Package: SingleCellAlleleExperiment Version: 1.4.1 Command: /home/biocbuild/bbs-3.21-bioc/R/bin/R CMD check --install=check:SingleCellAlleleExperiment.install-out.txt --library=/home/biocbuild/bbs-3.21-bioc/R/site-library --timings SingleCellAlleleExperiment_1.4.1.tar.gz StartedAt: 2025-10-16 03:40:39 -0400 (Thu, 16 Oct 2025) EndedAt: 2025-10-16 03:56:13 -0400 (Thu, 16 Oct 2025) EllapsedTime: 934.0 seconds RetCode: 0 Status: OK CheckDir: SingleCellAlleleExperiment.Rcheck Warnings: 0