Package: SingleCellAlleleExperiment Version: 1.4.1 Command: /home/biocbuild/bbs-3.21-bioc/R/bin/R CMD build --keep-empty-dirs --no-resave-data SingleCellAlleleExperiment StartedAt: 2025-10-15 19:56:59 -0400 (Wed, 15 Oct 2025) EndedAt: 2025-10-15 20:03:21 -0400 (Wed, 15 Oct 2025) EllapsedTime: 382.3 seconds RetCode: 0 Status: OK PackageFile: SingleCellAlleleExperiment_1.4.1.tar.gz PackageFileSize: 2.432 MiB