Package: SingleCellAlleleExperiment Version: 1.4.1 Command: /Library/Frameworks/R.framework/Resources/bin/R CMD check --install=check:SingleCellAlleleExperiment.install-out.txt --library=/Library/Frameworks/R.framework/Resources/library --no-vignettes --timings SingleCellAlleleExperiment_1.4.1.tar.gz StartedAt: 2025-10-14 10:30:21 -0400 (Tue, 14 Oct 2025) EndedAt: 2025-10-14 10:47:13 -0400 (Tue, 14 Oct 2025) EllapsedTime: 1011.2 seconds RetCode: 0 Status: OK CheckDir: SingleCellAlleleExperiment.Rcheck Warnings: 0