Package: SingleCellAlleleExperiment Version: 1.4.1 Command: rm -rf SingleCellAlleleExperiment.buildbin-libdir && mkdir SingleCellAlleleExperiment.buildbin-libdir && /Users/biocbuild/BBS/utils/build-universal.sh SingleCellAlleleExperiment_1.4.1.tar.gz /Library/Frameworks/R.framework/Resources/bin/R SingleCellAlleleExperiment.buildbin-libdir StartedAt: 2025-10-14 14:48:49 -0400 (Tue, 14 Oct 2025) EndedAt: 2025-10-14 14:49:50 -0400 (Tue, 14 Oct 2025) EllapsedTime: 60.6 seconds RetCode: 0 Status: OK PackageFile: SingleCellAlleleExperiment_1.4.1.tgz PackageFileSize: 1.887 MiB