Package: SingleCellAlleleExperiment Version: 1.4.1 Command: /home/biocbuild/R/R/bin/R CMD INSTALL SingleCellAlleleExperiment StartedAt: 2025-10-13 20:32:27 -0000 (Mon, 13 Oct 2025) EndedAt: 2025-10-13 20:33:01 -0000 (Mon, 13 Oct 2025) EllapsedTime: 34.6 seconds RetCode: 0 Status: OK