Package: SingleCellAlleleExperiment Version: 1.4.1 Command: /home/biocbuild/R/R/bin/R CMD build --keep-empty-dirs --no-resave-data SingleCellAlleleExperiment StartedAt: 2025-10-14 04:46:20 -0000 (Tue, 14 Oct 2025) EndedAt: 2025-10-14 04:57:58 -0000 (Tue, 14 Oct 2025) EllapsedTime: 697.4 seconds RetCode: 0 Status: OK PackageFile: SingleCellAlleleExperiment_1.4.1.tar.gz PackageFileSize: 2.473 MiB