Package: SingleCellAlleleExperiment Version: 1.4.1 Command: /Library/Frameworks/R.framework/Resources/bin/R CMD INSTALL SingleCellAlleleExperiment StartedAt: 2025-10-13 16:12:19 -0400 (Mon, 13 Oct 2025) EndedAt: 2025-10-13 16:12:47 -0400 (Mon, 13 Oct 2025) EllapsedTime: 28.3 seconds RetCode: 0 Status: OK