Package: SingleCellAlleleExperiment Version: 1.4.1 Command: /Library/Frameworks/R.framework/Resources/bin/R CMD build --keep-empty-dirs --no-resave-data SingleCellAlleleExperiment StartedAt: 2025-10-14 09:37:22 -0400 (Tue, 14 Oct 2025) EndedAt: 2025-10-14 09:45:44 -0400 (Tue, 14 Oct 2025) EllapsedTime: 501.6 seconds RetCode: 0 Status: OK PackageFile: SingleCellAlleleExperiment_1.4.1.tar.gz PackageFileSize: 2.68 MiB