Package: SimFFPE Version: 1.20.0 Command: /Library/Frameworks/R.framework/Resources/bin/R CMD build --keep-empty-dirs --no-resave-data SimFFPE StartedAt: 2025-10-03 09:27:05 -0400 (Fri, 03 Oct 2025) EndedAt: 2025-10-03 09:29:04 -0400 (Fri, 03 Oct 2025) EllapsedTime: 119.1 seconds RetCode: 0 Status: OK PackageFile: SimFFPE_1.20.0.tar.gz PackageFileSize: 749.8 KiB