Package: SimBu Version: 1.10.0 Command: chmod a+r SimBu -R && E:\biocbuild\bbs-3.21-bioc\R\bin\R.exe CMD build --keep-empty-dirs --no-resave-data SimBu StartedAt: 2025-08-14 22:16:06 -0400 (Thu, 14 Aug 2025) EndedAt: 2025-08-14 22:17:14 -0400 (Thu, 14 Aug 2025) EllapsedTime: 68.5 seconds RetCode: 0 Status: OK PackageFile: SimBu_1.10.0.tar.gz PackageFileSize: 115.6 KiB