Package: SimBu Version: 1.10.0 Command: rm -rf SimBu.buildbin-libdir && mkdir SimBu.buildbin-libdir && E:\biocbuild\bbs-3.21-bioc\R\bin\R.exe CMD INSTALL --build --library=SimBu.buildbin-libdir SimBu_1.10.0.tar.gz StartedAt: 2025-08-15 10:19:25 -0400 (Fri, 15 Aug 2025) EndedAt: 2025-08-15 10:19:46 -0400 (Fri, 15 Aug 2025) EllapsedTime: 21.6 seconds RetCode: 0 Status: OK PackageFile: SimBu_1.10.0.zip PackageFileSize: 230.7 KiB