Package: SigFuge Version: 1.46.0 Command: /home/biocbuild/R/R/bin/R CMD INSTALL SigFuge StartedAt: 2025-10-13 20:46:02 -0000 (Mon, 13 Oct 2025) EndedAt: 2025-10-13 20:46:20 -0000 (Mon, 13 Oct 2025) EllapsedTime: 17.8 seconds RetCode: 0 Status: OK