Package: SigFuge Version: 1.46.0 Command: /home/biocbuild/R/R/bin/R CMD build --keep-empty-dirs --no-resave-data SigFuge StartedAt: 2025-10-14 04:43:13 -0000 (Tue, 14 Oct 2025) EndedAt: 2025-10-14 04:44:14 -0000 (Tue, 14 Oct 2025) EllapsedTime: 61.1 seconds RetCode: 1 Status: ERROR PackageFile: None PackageFileSize: NA