Package: SigCheck Version: 2.40.0 Command: /Library/Frameworks/R.framework/Resources/bin/R CMD build --keep-empty-dirs --no-resave-data SigCheck StartedAt: 2025-10-13 22:40:21 -0400 (Mon, 13 Oct 2025) EndedAt: 2025-10-13 22:42:29 -0400 (Mon, 13 Oct 2025) EllapsedTime: 128.1 seconds RetCode: 0 Status: OK PackageFile: SigCheck_2.40.0.tar.gz PackageFileSize: 368.2 KiB