Package: SigCheck Version: 2.40.0 Command: rm -rf SigCheck.buildbin-libdir && mkdir SigCheck.buildbin-libdir && /Users/biocbuild/BBS/utils/build-universal.sh SigCheck_2.40.0.tar.gz /Library/Frameworks/R.framework/Resources/bin/R SigCheck.buildbin-libdir StartedAt: 2025-10-14 14:47:49 -0400 (Tue, 14 Oct 2025) EndedAt: 2025-10-14 14:49:03 -0400 (Tue, 14 Oct 2025) EllapsedTime: 73.5 seconds RetCode: 0 Status: OK PackageFile: SigCheck_2.40.0.tgz PackageFileSize: 730.4 KiB