Package: SiPSiC Version: 1.8.0 Command: rm -rf SiPSiC.buildbin-libdir && mkdir SiPSiC.buildbin-libdir && E:\biocbuild\bbs-3.21-bioc\R\bin\R.exe CMD INSTALL --build --library=SiPSiC.buildbin-libdir SiPSiC_1.8.0.tar.gz StartedAt: 2025-08-15 10:20:15 -0400 (Fri, 15 Aug 2025) EndedAt: 2025-08-15 10:20:45 -0400 (Fri, 15 Aug 2025) EllapsedTime: 30.3 seconds RetCode: 0 Status: OK PackageFile: SiPSiC_1.8.0.zip PackageFileSize: 251.5 KiB