Package: ShortRead Version: 1.66.0 Command: /Library/Frameworks/R.framework/Resources/bin/R CMD INSTALL ShortRead StartedAt: 2025-10-13 16:29:53 -0400 (Mon, 13 Oct 2025) EndedAt: 2025-10-13 16:31:48 -0400 (Mon, 13 Oct 2025) EllapsedTime: 115.4 seconds RetCode: 0 Status: OK