Package: ShortRead Version: 1.66.0 Command: rm -rf ShortRead.buildbin-libdir && mkdir ShortRead.buildbin-libdir && /Users/biocbuild/BBS/utils/build-universal.sh ShortRead_1.66.0.tar.gz /Library/Frameworks/R.framework/Resources/bin/R ShortRead.buildbin-libdir StartedAt: 2025-10-01 20:30:45 -0400 (Wed, 01 Oct 2025) EndedAt: 2025-10-01 20:31:55 -0400 (Wed, 01 Oct 2025) EllapsedTime: 70.5 seconds RetCode: 0 Status: OK PackageFile: ShortRead_1.66.0.tgz PackageFileSize: 5.493 MiB