Package: SeqVarTools Version: 1.46.0 Command: chmod a+r SeqVarTools -R && E:\biocbuild\bbs-3.21-bioc\R\bin\R.exe CMD build --keep-empty-dirs --no-resave-data SeqVarTools StartedAt: 2025-08-14 22:12:27 -0400 (Thu, 14 Aug 2025) EndedAt: 2025-08-14 22:14:12 -0400 (Thu, 14 Aug 2025) EllapsedTime: 105.8 seconds RetCode: 0 Status: OK PackageFile: SeqVarTools_1.46.0.tar.gz PackageFileSize: 1004 KiB