Package: SeqVarTools Version: 1.46.0 Command: /Library/Frameworks/R.framework/Resources/bin/R CMD check --install=check:SeqVarTools.install-out.txt --library=/Library/Frameworks/R.framework/Resources/library --no-vignettes --timings SeqVarTools_1.46.0.tar.gz StartedAt: 2025-10-14 10:19:23 -0400 (Tue, 14 Oct 2025) EndedAt: 2025-10-14 10:25:22 -0400 (Tue, 14 Oct 2025) EllapsedTime: 358.4 seconds RetCode: 0 Status: OK CheckDir: SeqVarTools.Rcheck Warnings: 0