Package: SeqVarTools Version: 1.46.0 Command: rm -rf SeqVarTools.buildbin-libdir && mkdir SeqVarTools.buildbin-libdir && /Users/biocbuild/BBS/utils/build-universal.sh SeqVarTools_1.46.0.tar.gz /Library/Frameworks/R.framework/Resources/bin/R SeqVarTools.buildbin-libdir StartedAt: 2025-10-14 14:47:05 -0400 (Tue, 14 Oct 2025) EndedAt: 2025-10-14 14:48:02 -0400 (Tue, 14 Oct 2025) EllapsedTime: 57.2 seconds RetCode: 0 Status: OK PackageFile: SeqVarTools_1.46.0.tgz PackageFileSize: 1.429 MiB