Package: SeqSQC Version: 1.30.0 Command: /Library/Frameworks/R.framework/Resources/bin/R CMD INSTALL SeqSQC StartedAt: 2025-10-13 15:49:44 -0400 (Mon, 13 Oct 2025) EndedAt: 2025-10-13 15:50:31 -0400 (Mon, 13 Oct 2025) EllapsedTime: 46.6 seconds RetCode: 0 Status: OK