Package: SeqSQC Version: 1.30.0 Command: /Library/Frameworks/R.framework/Resources/bin/R CMD build --keep-empty-dirs --no-resave-data SeqSQC StartedAt: 2025-10-13 22:37:12 -0400 (Mon, 13 Oct 2025) EndedAt: 2025-10-13 22:39:11 -0400 (Mon, 13 Oct 2025) EllapsedTime: 118.8 seconds RetCode: 0 Status: OK PackageFile: SeqSQC_1.30.0.tar.gz PackageFileSize: 4.529 MiB