Package: SeqArray Version: 1.48.3 Command: /Library/Frameworks/R.framework/Resources/bin/R CMD INSTALL SeqArray StartedAt: 2025-10-13 15:30:39 -0400 (Mon, 13 Oct 2025) EndedAt: 2025-10-13 15:32:05 -0400 (Mon, 13 Oct 2025) EllapsedTime: 86.1 seconds RetCode: 0 Status: OK