Package: SeqArray Version: 1.48.3 Command: /Library/Frameworks/R.framework/Resources/bin/R CMD build --keep-empty-dirs --no-resave-data SeqArray StartedAt: 2025-10-13 22:35:26 -0400 (Mon, 13 Oct 2025) EndedAt: 2025-10-13 22:39:27 -0400 (Mon, 13 Oct 2025) EllapsedTime: 241.2 seconds RetCode: 0 Status: OK PackageFile: SeqArray_1.48.3.tar.gz PackageFileSize: 3.709 MiB