Package: SeqArray Version: 1.48.3 Command: rm -rf SeqArray.buildbin-libdir && mkdir SeqArray.buildbin-libdir && /Users/biocbuild/BBS/utils/build-universal.sh SeqArray_1.48.3.tar.gz /Library/Frameworks/R.framework/Resources/bin/R SeqArray.buildbin-libdir StartedAt: 2025-10-14 14:46:00 -0400 (Tue, 14 Oct 2025) EndedAt: 2025-10-14 14:48:02 -0400 (Tue, 14 Oct 2025) EllapsedTime: 122.3 seconds RetCode: 0 Status: OK PackageFile: SeqArray_1.48.3.tgz PackageFileSize: 4.202 MiB