Package: ScaledMatrix Version: 1.16.0 Command: E:\biocbuild\bbs-3.21-bioc\R\bin\R.exe CMD INSTALL ScaledMatrix StartedAt: 2025-08-14 16:00:03 -0400 (Thu, 14 Aug 2025) EndedAt: 2025-08-14 16:00:52 -0400 (Thu, 14 Aug 2025) EllapsedTime: 49.1 seconds RetCode: 0 Status: OK