Package: ScaledMatrix Version: 1.16.0 Command: chmod a+r ScaledMatrix -R && E:\biocbuild\bbs-3.21-bioc\R\bin\R.exe CMD build --keep-empty-dirs --no-resave-data ScaledMatrix StartedAt: 2025-08-14 21:57:17 -0400 (Thu, 14 Aug 2025) EndedAt: 2025-08-14 22:00:34 -0400 (Thu, 14 Aug 2025) EllapsedTime: 196.4 seconds RetCode: 0 Status: OK PackageFile: ScaledMatrix_1.16.0.tar.gz PackageFileSize: 306.5 KiB