Package: SWATH2stats Version: 1.38.0 Command: /home/biocbuild/R/R/bin/R CMD check --install=check:SWATH2stats.install-out.txt --library=/home/biocbuild/R/R/site-library --no-vignettes --timings SWATH2stats_1.38.0.tar.gz StartedAt: 2025-10-14 15:07:34 -0000 (Tue, 14 Oct 2025) EndedAt: 2025-10-14 15:11:34 -0000 (Tue, 14 Oct 2025) EllapsedTime: 239.3 seconds RetCode: 0 Status: OK CheckDir: SWATH2stats.Rcheck Warnings: 0