Package: SVP Version: 1.0.2 Command: E:\biocbuild\bbs-3.21-bioc\R\bin\R.exe CMD INSTALL SVP StartedAt: 2025-08-14 16:14:06 -0400 (Thu, 14 Aug 2025) EndedAt: 2025-08-14 16:18:09 -0400 (Thu, 14 Aug 2025) EllapsedTime: 243.8 seconds RetCode: 0 Status: OK