Package: SVP Version: 1.0.2 Command: /home/biocbuild/bbs-3.21-bioc/R/bin/R CMD INSTALL SVP StartedAt: 2025-10-15 15:19:04 -0400 (Wed, 15 Oct 2025) EndedAt: 2025-10-15 15:21:48 -0400 (Wed, 15 Oct 2025) EllapsedTime: 164.2 seconds RetCode: 0 Status: OK