Package: SVP Version: 1.0.2 Command: /home/biocbuild/bbs-3.21-bioc/R/bin/R CMD build --keep-empty-dirs --no-resave-data SVP StartedAt: 2025-10-15 20:12:59 -0400 (Wed, 15 Oct 2025) EndedAt: 2025-10-15 20:17:30 -0400 (Wed, 15 Oct 2025) EllapsedTime: 270.7 seconds RetCode: 0 Status: OK PackageFile: SVP_1.0.2.tar.gz PackageFileSize: 4.449 MiB