Package: SVP Version: 1.0.2 Command: /Library/Frameworks/R.framework/Resources/bin/R CMD INSTALL SVP StartedAt: 2025-10-13 15:36:49 -0400 (Mon, 13 Oct 2025) EndedAt: 2025-10-13 15:42:06 -0400 (Mon, 13 Oct 2025) EllapsedTime: 316.3 seconds RetCode: 0 Status: OK