Package: SVP Version: 1.0.2 Command: /Library/Frameworks/R.framework/Resources/bin/R CMD check --install=check:SVP.install-out.txt --library=/Library/Frameworks/R.framework/Resources/library --no-vignettes --timings SVP_1.0.2.tar.gz StartedAt: 2025-10-14 11:22:49 -0400 (Tue, 14 Oct 2025) EndedAt: 2025-10-14 11:32:52 -0400 (Tue, 14 Oct 2025) EllapsedTime: 603.2 seconds RetCode: 0 Status: OK CheckDir: SVP.Rcheck Warnings: 0