Package: SVP Version: 1.0.2 Command: /Library/Frameworks/R.framework/Resources/bin/R CMD build --keep-empty-dirs --no-resave-data SVP StartedAt: 2025-10-13 23:07:24 -0400 (Mon, 13 Oct 2025) EndedAt: 2025-10-13 23:16:08 -0400 (Mon, 13 Oct 2025) EllapsedTime: 524.2 seconds RetCode: 0 Status: OK PackageFile: SVP_1.0.2.tar.gz PackageFileSize: 4.858 MiB