Package: SVP Version: 1.0.2 Command: rm -rf SVP.buildbin-libdir && mkdir SVP.buildbin-libdir && /Users/biocbuild/BBS/utils/build-universal.sh SVP_1.0.2.tar.gz /Library/Frameworks/R.framework/Resources/bin/R SVP.buildbin-libdir StartedAt: 2025-10-14 14:55:21 -0400 (Tue, 14 Oct 2025) EndedAt: 2025-10-14 15:01:32 -0400 (Tue, 14 Oct 2025) EllapsedTime: 371.7 seconds RetCode: 0 Status: OK PackageFile: SVP_1.0.2.tgz PackageFileSize: 5.557 MiB