Package: SVP Version: 1.0.0 Command: /Library/Frameworks/R.framework/Resources/bin/R CMD INSTALL SVP StartedAt: 2025-04-21 15:19:23 -0400 (Mon, 21 Apr 2025) EndedAt: 2025-04-21 15:22:18 -0400 (Mon, 21 Apr 2025) EllapsedTime: 175.1 seconds RetCode: 0 Status: OK