Package: SVP Version: 1.0.0 Command: /Library/Frameworks/R.framework/Resources/bin/R CMD check --install=check:SVP.install-out.txt --library=/Library/Frameworks/R.framework/Resources/library --no-vignettes --timings SVP_1.0.0.tar.gz StartedAt: 2025-04-21 23:58:05 -0400 (Mon, 21 Apr 2025) EndedAt: 2025-04-22 00:03:17 -0400 (Tue, 22 Apr 2025) EllapsedTime: 312.2 seconds RetCode: 0 Status: OK CheckDir: SVP.Rcheck Warnings: 0