Package: SVP Version: 1.0.0 Command: /Library/Frameworks/R.framework/Resources/bin/R CMD build --keep-empty-dirs --no-resave-data SVP StartedAt: 2025-04-21 17:49:18 -0400 (Mon, 21 Apr 2025) EndedAt: 2025-04-21 17:50:59 -0400 (Mon, 21 Apr 2025) EllapsedTime: 101.2 seconds RetCode: 0 Status: OK PackageFile: SVP_1.0.0.tar.gz PackageFileSize: 4.615 MiB